BEGIN:VCALENDAR
VERSION:2.0
PRODID:-//The Limitless Foundation - ECPv6.5.0//NONSGML v1.0//EN
CALSCALE:GREGORIAN
METHOD:PUBLISH
X-ORIGINAL-URL:https://thelimitless-foundation.com
X-WR-CALDESC:Events for The Limitless Foundation
REFRESH-INTERVAL;VALUE=DURATION:PT1H
X-Robots-Tag:noindex
X-PUBLISHED-TTL:PT1H
BEGIN:VTIMEZONE
TZID:UTC
BEGIN:STANDARD
TZOFFSETFROM:+0000
TZOFFSETTO:+0000
TZNAME:UTC
DTSTART:20250101T000000
END:STANDARD
END:VTIMEZONE
BEGIN:VEVENT
DTSTART;TZID=UTC:20250712T100000
DTEND;TZID=UTC:20250712T170000
DTSTAMP:20260420T045455
CREATED:20250607T205007Z
LAST-MODIFIED:20260306T192420Z
UID:1921-1752314400-1752339600@thelimitless-foundation.com
SUMMARY:Free HS position Specific clinic
DESCRIPTION:Free HS position Specific clinic: Huntington High School\, Huntington NY
URL:https://thelimitless-foundation.com/event/free-hs-position-specific-clinic/
CATEGORIES:Past Events
ATTACH;FMTTYPE=image/jpeg:https://thelimitless-foundation.com/wp-content/uploads/2025/06/2025-LIMITLESS-T-shirt-graphic-4.jpg
END:VEVENT
END:VCALENDAR