BEGIN:VCALENDAR
VERSION:2.0
PRODID:-//The Limitless Foundation - ECPv6.5.0//NONSGML v1.0//EN
CALSCALE:GREGORIAN
METHOD:PUBLISH
X-WR-CALNAME:The Limitless Foundation
X-ORIGINAL-URL:https://thelimitless-foundation.com
X-WR-CALDESC:Events for The Limitless Foundation
REFRESH-INTERVAL;VALUE=DURATION:PT1H
X-Robots-Tag:noindex
X-PUBLISHED-TTL:PT1H
BEGIN:VTIMEZONE
TZID:UTC
BEGIN:STANDARD
TZOFFSETFROM:+0000
TZOFFSETTO:+0000
TZNAME:UTC
DTSTART:20250101T000000
END:STANDARD
END:VTIMEZONE
BEGIN:VEVENT
DTSTART;TZID=UTC:20250710T150000
DTEND;TZID=UTC:20250710T200000
DTSTAMP:20260420T080015
CREATED:20250607T205047Z
LAST-MODIFIED:20260306T192354Z
UID:1924-1752159600-1752177600@thelimitless-foundation.com
SUMMARY:Strong Island Strong Girls: 
DESCRIPTION:Huntington High School\, Huntington NY
URL:https://thelimitless-foundation.com/event/strong-island-strong-girls/
CATEGORIES:Past Events
ATTACH;FMTTYPE=image/jpeg:https://thelimitless-foundation.com/wp-content/uploads/2025/06/2025-LIMITLESS-T-shirt-graphic-2.jpg
END:VEVENT
END:VCALENDAR